BEGIN:VCALENDAR
VERSION:2.0
PRODID:-//Chamber of Pastel - ECPv6.0.6.2//NONSGML v1.0//EN
CALSCALE:GREGORIAN
METHOD:PUBLISH
X-WR-CALNAME:Chamber of Pastel
X-ORIGINAL-URL:https://www.chamberofpastel.com
X-WR-CALDESC:Events for Chamber of Pastel
REFRESH-INTERVAL;VALUE=DURATION:PT1H
X-Robots-Tag:noindex
X-PUBLISHED-TTL:PT1H
BEGIN:VTIMEZONE
TZID:Asia/Krasnoyarsk
BEGIN:STANDARD
TZOFFSETFROM:+0700
TZOFFSETTO:+0700
TZNAME:+07
DTSTART:20210101T000000
END:STANDARD
END:VTIMEZONE
BEGIN:VEVENT
DTSTART;VALUE=DATE:20220101
DTEND;VALUE=DATE:20220201
DTSTAMP:20260421T212329
CREATED:20201201T182202Z
LAST-MODIFIED:20211226T012123Z
UID:810-1640995200-1643673599@www.chamberofpastel.com
SUMMARY:February 2022 slots - DM for booking
DESCRIPTION:DM us on Instagram @chamberofpastel for reservation.
URL:https://www.chamberofpastel.com/event/open-for-reservation/
END:VEVENT
BEGIN:VEVENT
DTSTART;VALUE=DATE:20211130
DTEND;VALUE=DATE:20220101
DTSTAMP:20260421T212329
CREATED:20201201T182226Z
LAST-MODIFIED:20211226T011909Z
UID:812-1638230400-1640995199@www.chamberofpastel.com
SUMMARY:January 2022  slots - closed
DESCRIPTION:
URL:https://www.chamberofpastel.com/event/fully-booked/
END:VEVENT
END:VCALENDAR